BEGIN:VCALENDAR
VERSION:2.0
PRODID:-//medisimaging - ECPv6.15.15//NONSGML v1.0//EN
CALSCALE:GREGORIAN
METHOD:PUBLISH
X-ORIGINAL-URL:https://medisimaging.com
X-WR-CALDESC:Events for medisimaging
REFRESH-INTERVAL;VALUE=DURATION:PT1H
X-Robots-Tag:noindex
X-PUBLISHED-TTL:PT1H
BEGIN:VTIMEZONE
TZID:Europe/Amsterdam
BEGIN:DAYLIGHT
TZOFFSETFROM:+0100
TZOFFSETTO:+0200
TZNAME:CEST
DTSTART:20240331T010000
END:DAYLIGHT
BEGIN:STANDARD
TZOFFSETFROM:+0200
TZOFFSETTO:+0100
TZNAME:CET
DTSTART:20241027T010000
END:STANDARD
BEGIN:DAYLIGHT
TZOFFSETFROM:+0100
TZOFFSETTO:+0200
TZNAME:CEST
DTSTART:20250330T010000
END:DAYLIGHT
BEGIN:STANDARD
TZOFFSETFROM:+0200
TZOFFSETTO:+0100
TZNAME:CET
DTSTART:20251026T010000
END:STANDARD
BEGIN:DAYLIGHT
TZOFFSETFROM:+0100
TZOFFSETTO:+0200
TZNAME:CEST
DTSTART:20260329T010000
END:DAYLIGHT
BEGIN:STANDARD
TZOFFSETFROM:+0200
TZOFFSETTO:+0100
TZNAME:CET
DTSTART:20261025T010000
END:STANDARD
END:VTIMEZONE
BEGIN:VEVENT
DTSTART;VALUE=DATE:20250829
DTEND;VALUE=DATE:20250902
DTSTAMP:20260425T011900
CREATED:20250218T131042Z
LAST-MODIFIED:20250218T131042Z
UID:28658-1756425600-1756771199@medisimaging.com
SUMMARY:ESC Congress 2025
DESCRIPTION:
URL:https://medisimaging.com/event/esc-congress-2025/
LOCATION:IFEMA Madrid\, Av. de la Capital de España\, 5\, Barajas\, Madrid\, 28042\, Spain
ATTACH;FMTTYPE=image/jpeg:https://medisimaging.com/wp-content/uploads/2025/02/ESC-Madrid.jpg
END:VEVENT
BEGIN:VEVENT
DTSTART;VALUE=DATE:20250905
DTEND;VALUE=DATE:20250908
DTSTAMP:20260425T011900
CREATED:20250218T132847Z
LAST-MODIFIED:20250605T143850Z
UID:28669-1757030400-1757289599@medisimaging.com
SUMMARY:ASE2025
DESCRIPTION:
URL:https://medisimaging.com/event/ase-2025/
LOCATION:Music City Center\, 201 Rep. John Lewis Way S\, Nashville\, 37203\, United States
ATTACH;FMTTYPE=image/png:https://medisimaging.com/wp-content/uploads/2025/02/ASE-2025.png
END:VEVENT
BEGIN:VEVENT
DTSTART;VALUE=DATE:20250912
DTEND;VALUE=DATE:20250914
DTSTAMP:20260425T011900
CREATED:20250605T092021Z
LAST-MODIFIED:20250605T093430Z
UID:29456-1757635200-1757807999@medisimaging.com
SUMMARY:POPAI 2025
DESCRIPTION:
URL:https://medisimaging.com/event/popai-2025/
ATTACH;FMTTYPE=image/jpeg:https://medisimaging.com/wp-content/uploads/2025/06/POPAI-2025.jpg-2.jpg
END:VEVENT
BEGIN:VEVENT
DTSTART;VALUE=DATE:20250919
DTEND;VALUE=DATE:20250922
DTSTAMP:20260425T011900
CREATED:20250218T134107Z
LAST-MODIFIED:20250605T145742Z
UID:28683-1758240000-1758499199@medisimaging.com
SUMMARY:NC & SC Chapters ACC 32nd Annual Joint Meeting
DESCRIPTION:
URL:https://medisimaging.com/event/nc-sc-chapters-acc-32nd-annual-joint-meeting/
LOCATION:Omni Grove Park Inn\, 290 Macon Ave\, Asheville\, 28804\, United States
ATTACH;FMTTYPE=image/png:https://medisimaging.com/wp-content/uploads/2025/02/ACC.png
END:VEVENT
BEGIN:VEVENT
DTSTART;VALUE=DATE:20250927
DTEND;VALUE=DATE:20251001
DTSTAMP:20260425T011900
CREATED:20250605T094408Z
LAST-MODIFIED:20250605T094408Z
UID:29462-1758931200-1759276799@medisimaging.com
SUMMARY:NASCI 2025
DESCRIPTION:
URL:https://medisimaging.com/event/nasci-2025/
LOCATION:Hilton Minneapolis\, 1001 S Marquette Avenue Minneapolis\, MN 55403\, MN\, United States
ATTACH;FMTTYPE=image/jpeg:https://medisimaging.com/wp-content/uploads/2025/06/NASCI-2025.jpg
END:VEVENT
END:VCALENDAR