BEGIN:VCALENDAR
VERSION:2.0
PRODID:-//medisimaging - ECPv6.15.15//NONSGML v1.0//EN
CALSCALE:GREGORIAN
METHOD:PUBLISH
X-WR-CALNAME:medisimaging
X-ORIGINAL-URL:https://medisimaging.com
X-WR-CALDESC:Events for medisimaging
REFRESH-INTERVAL;VALUE=DURATION:PT1H
X-Robots-Tag:noindex
X-PUBLISHED-TTL:PT1H
BEGIN:VTIMEZONE
TZID:Europe/Amsterdam
BEGIN:DAYLIGHT
TZOFFSETFROM:+0100
TZOFFSETTO:+0200
TZNAME:CEST
DTSTART:20240331T010000
END:DAYLIGHT
BEGIN:STANDARD
TZOFFSETFROM:+0200
TZOFFSETTO:+0100
TZNAME:CET
DTSTART:20241027T010000
END:STANDARD
BEGIN:DAYLIGHT
TZOFFSETFROM:+0100
TZOFFSETTO:+0200
TZNAME:CEST
DTSTART:20250330T010000
END:DAYLIGHT
BEGIN:STANDARD
TZOFFSETFROM:+0200
TZOFFSETTO:+0100
TZNAME:CET
DTSTART:20251026T010000
END:STANDARD
BEGIN:DAYLIGHT
TZOFFSETFROM:+0100
TZOFFSETTO:+0200
TZNAME:CEST
DTSTART:20260329T010000
END:DAYLIGHT
BEGIN:STANDARD
TZOFFSETFROM:+0200
TZOFFSETTO:+0100
TZNAME:CET
DTSTART:20261025T010000
END:STANDARD
END:VTIMEZONE
BEGIN:VEVENT
DTSTART;VALUE=DATE:20250717
DTEND;VALUE=DATE:20250720
DTSTAMP:20260425T041718
CREATED:20250218T123546Z
LAST-MODIFIED:20250218T123546Z
UID:28643-1752710400-1752969599@medisimaging.com
SUMMARY:CVIT2025
DESCRIPTION:
URL:https://medisimaging.com/event/cvit2025/
LOCATION:Osaka International Convention Center\, 5 Chome-3-51 Nakanoshima\, Kita Ward\, Osaka\, 530-0005\, Japan
ATTACH;FMTTYPE=image/png:https://medisimaging.com/wp-content/uploads/2025/02/CVIT-2025.png
END:VEVENT
BEGIN:VEVENT
DTSTART;VALUE=DATE:20250717
DTEND;VALUE=DATE:20250721
DTSTAMP:20260425T041718
CREATED:20250605T090339Z
LAST-MODIFIED:20250605T090339Z
UID:29452-1752710400-1753055999@medisimaging.com
SUMMARY:SCCT 2025
DESCRIPTION:
URL:https://medisimaging.com/event/scct-2025/
LOCATION:Palais des Congrès de Montréal\, 1001\, Place Jean-Paul-Riopelle Montreal QC H2Z 2A7\, Canada
ATTACH;FMTTYPE=image/png:https://medisimaging.com/wp-content/uploads/2025/06/SCCT.png
END:VEVENT
END:VCALENDAR