BEGIN:VCALENDAR
VERSION:2.0
PRODID:-//medisimaging - ECPv6.15.15//NONSGML v1.0//EN
CALSCALE:GREGORIAN
METHOD:PUBLISH
X-WR-CALNAME:medisimaging
X-ORIGINAL-URL:https://medisimaging.com
X-WR-CALDESC:Events for medisimaging
REFRESH-INTERVAL;VALUE=DURATION:PT1H
X-Robots-Tag:noindex
X-PUBLISHED-TTL:PT1H
BEGIN:VTIMEZONE
TZID:Europe/Amsterdam
BEGIN:DAYLIGHT
TZOFFSETFROM:+0100
TZOFFSETTO:+0200
TZNAME:CEST
DTSTART:20240331T010000
END:DAYLIGHT
BEGIN:STANDARD
TZOFFSETFROM:+0200
TZOFFSETTO:+0100
TZNAME:CET
DTSTART:20241027T010000
END:STANDARD
BEGIN:DAYLIGHT
TZOFFSETFROM:+0100
TZOFFSETTO:+0200
TZNAME:CEST
DTSTART:20250330T010000
END:DAYLIGHT
BEGIN:STANDARD
TZOFFSETFROM:+0200
TZOFFSETTO:+0100
TZNAME:CET
DTSTART:20251026T010000
END:STANDARD
BEGIN:DAYLIGHT
TZOFFSETFROM:+0100
TZOFFSETTO:+0200
TZNAME:CEST
DTSTART:20260329T010000
END:DAYLIGHT
BEGIN:STANDARD
TZOFFSETFROM:+0200
TZOFFSETTO:+0100
TZNAME:CET
DTSTART:20261025T010000
END:STANDARD
BEGIN:DAYLIGHT
TZOFFSETFROM:+0100
TZOFFSETTO:+0200
TZNAME:CEST
DTSTART:20270328T010000
END:DAYLIGHT
BEGIN:STANDARD
TZOFFSETFROM:+0200
TZOFFSETTO:+0100
TZNAME:CET
DTSTART:20271031T010000
END:STANDARD
END:VTIMEZONE
BEGIN:VEVENT
DTSTART;VALUE=DATE:20260408
DTEND;VALUE=DATE:20260412
DTSTAMP:20260425T180646
CREATED:20260312T141849Z
LAST-MODIFIED:20260317T141219Z
UID:30627-1775606400-1775951999@medisimaging.com
SUMMARY:92nd DGK Annual Conference (92. DGK-Jahrestagung)
DESCRIPTION:Come meet us at booth 210B and Terumo 210A (coffee corner)
URL:https://medisimaging.com/event/dgk26/
LOCATION:Congress Center Rosengarten Mannheim\, Rosengartenplatz 2\, Mannheim\, 68161\, Germany
ATTACH;FMTTYPE=image/webp:https://medisimaging.com/wp-content/uploads/2026/03/dgk-logo-kurz-e1773324994229.webp
END:VEVENT
BEGIN:VEVENT
DTSTART;VALUE=DATE:20260408
DTEND;VALUE=DATE:20260411
DTSTAMP:20260425T180646
CREATED:20260312T153550Z
LAST-MODIFIED:20260312T153729Z
UID:30653-1775606400-1775865599@medisimaging.com
SUMMARY:2026 Advanced Revascularization Chapter XIX
DESCRIPTION:
URL:https://medisimaging.com/event/arch2026/
LOCATION:Ritz-Carlton\, 100 Carondelet Plaza\, St.Louis\, MO\, 631054\, United States
ATTACH;FMTTYPE=image/jpeg:https://medisimaging.com/wp-content/uploads/2026/03/Screenshot_12-3-2026_163426_archsymposium.com_-e1773329837438.jpeg
END:VEVENT
BEGIN:VEVENT
DTSTART;VALUE=DATE:20260304
DTEND;VALUE=DATE:20260308
DTSTAMP:20260425T180646
CREATED:20260218T102132Z
LAST-MODIFIED:20260218T102456Z
UID:30233-1772582400-1772927999@medisimaging.com
SUMMARY:ECR 2026 - Booth X1 #AI28
DESCRIPTION:Daniel Garcia (MSc.) will be presenting at The AI Theatre: Industry Session – 𝗔𝗜-𝗜𝗡𝗗 𝟮 | 𝗔𝗜 𝗟𝗶𝗴𝗵𝘁𝗻𝗶𝗻𝗴 𝗧𝗮𝗹𝗸𝘀 𝟮 on 𝗠𝗮𝗿𝗰𝗵 𝟰\, 𝟭𝟭:𝟬𝟬–𝟭𝟮:𝟬𝟬 𝗖𝗘𝗧 at the 𝗔𝗖𝗩 𝗔𝗜 𝗧𝗵𝗲𝗮𝘁𝗲𝗿. \nIn his six-minute talk\, Daniel will discuss how AI is advancing cardiovascular imaging\, supporting clinicians with precise\, data-driven insights that enhance diagnostic confidence and streamline clinical workflows. \n𝗦𝗲𝘀𝘀𝗶𝗼𝗻 𝗱𝗲𝘁𝗮𝗶𝗹𝘀:\n📍 Location: ACV AI Theater\, ECR 2026\n🎤 Topic: AI applied to Cardiovascular Imaging\n➡️ More information here: https://connect.myesr.org/course/ai-lightning-talks-2-3/
URL:https://medisimaging.com/event/ecr-2026-booth-x1-ai28/
LOCATION:Austria Center Vienna\, Bruno-Kreisky-Platz 1\,\, Vienna\, 1220\, Austria
ATTACH;FMTTYPE=image/jpeg:https://medisimaging.com/wp-content/uploads/2026/02/Social_Media_Industry_Insta.jpg
END:VEVENT
BEGIN:VEVENT
DTSTART;VALUE=DATE:20251211
DTEND;VALUE=DATE:20251214
DTSTAMP:20260425T180646
CREATED:20250605T105511Z
LAST-MODIFIED:20251201T110449Z
UID:29483-1765411200-1765670399@medisimaging.com
SUMMARY:EACVI 2025 - Booth #B125
DESCRIPTION:Book a meeting with us here!\nJoin our sponsored workshops here!
URL:https://medisimaging.com/event/eacvi-2025/
LOCATION:VIECON – Vienna Congress & Convention Center\, Wiener Messe und Congress GmbH Messeplatz 1\, P.O. Box 277 A-1021 Vienna Austria
ATTACH;FMTTYPE=image/jpeg:https://medisimaging.com/wp-content/uploads/2025/06/EACVI-Congress-.jpg
END:VEVENT
BEGIN:VEVENT
DTSTART;VALUE=DATE:20251113
DTEND;VALUE=DATE:20251117
DTSTAMP:20260425T180646
CREATED:20251028T075626Z
LAST-MODIFIED:20251028T075626Z
UID:29950-1762992000-1763337599@medisimaging.com
SUMMARY:CCR 2025
DESCRIPTION:
URL:https://medisimaging.com/event/ccr-2025/
LOCATION:Changsha International Convention & Exhibition Center\, 108 Guozhan Road\, - Changsha County\, Hunan Province 410100 Changsha City\, Changsha\, Hunan\, China
ATTACH;FMTTYPE=image/png:https://medisimaging.com/wp-content/uploads/2025/10/CCR3.png
END:VEVENT
BEGIN:VEVENT
DTSTART;VALUE=DATE:20251106
DTEND;VALUE=DATE:20251109
DTSTAMP:20260425T180646
CREATED:20251027T162401Z
LAST-MODIFIED:20251028T075737Z
UID:29935-1762387200-1762646399@medisimaging.com
SUMMARY:DKG Koln 2025
DESCRIPTION:
URL:https://medisimaging.com/event/dgk-koln-2025/
LOCATION:Sartory Säle\, Friesenstrasse 44-48\, Köln\, Germany
ATTACH;FMTTYPE=image/png:https://medisimaging.com/wp-content/uploads/2025/10/DGK-1.png
END:VEVENT
BEGIN:VEVENT
DTSTART;VALUE=DATE:20251025
DTEND;VALUE=DATE:20251029
DTSTAMP:20260425T180646
CREATED:20250605T100635Z
LAST-MODIFIED:20250605T100635Z
UID:29472-1761350400-1761695999@medisimaging.com
SUMMARY:TCT® 2025
DESCRIPTION:
URL:https://medisimaging.com/event/tct-2025/
LOCATION:Moscone Center\, 747 Howard Street\, San Francisco\, CA 94103\, United States
ATTACH;FMTTYPE=image/jpeg:https://medisimaging.com/wp-content/uploads/2025/06/TCT-San-francisco.jpg
END:VEVENT
BEGIN:VEVENT
DTSTART;VALUE=DATE:20251023
DTEND;VALUE=DATE:20251026
DTSTAMP:20260425T180646
CREATED:20250605T104702Z
LAST-MODIFIED:20250605T104702Z
UID:29477-1761177600-1761436799@medisimaging.com
SUMMARY:ESCR Annual Scientific Meeting 2025
DESCRIPTION:
URL:https://medisimaging.com/event/escr-annual-scientific-meeting-2025/
LOCATION:Radisson Blu Glasgow\, 301 Argyle Street Glasgow G2 8DL United Kingdom
ATTACH;FMTTYPE=image/jpeg:https://medisimaging.com/wp-content/uploads/2025/06/ESCR-25.jpg
END:VEVENT
BEGIN:VEVENT
DTSTART;VALUE=DATE:20251001
DTEND;VALUE=DATE:20251005
DTSTAMP:20260425T180646
CREATED:20250605T095813Z
LAST-MODIFIED:20250605T095813Z
UID:29467-1759276800-1759622399@medisimaging.com
SUMMARY:GISE
DESCRIPTION:
URL:https://medisimaging.com/event/gise/
LOCATION:Allianz MiCo\, Piazzale Carlo Magno\, 1 20149 Milan – Italy
ATTACH;FMTTYPE=image/jpeg:https://medisimaging.com/wp-content/uploads/2025/06/GISE-2025.jpg
END:VEVENT
BEGIN:VEVENT
DTSTART;VALUE=DATE:20250927
DTEND;VALUE=DATE:20251001
DTSTAMP:20260425T180646
CREATED:20250605T094408Z
LAST-MODIFIED:20250605T094408Z
UID:29462-1758931200-1759276799@medisimaging.com
SUMMARY:NASCI 2025
DESCRIPTION:
URL:https://medisimaging.com/event/nasci-2025/
LOCATION:Hilton Minneapolis\, 1001 S Marquette Avenue Minneapolis\, MN 55403\, MN\, United States
ATTACH;FMTTYPE=image/jpeg:https://medisimaging.com/wp-content/uploads/2025/06/NASCI-2025.jpg
END:VEVENT
BEGIN:VEVENT
DTSTART;VALUE=DATE:20250919
DTEND;VALUE=DATE:20250922
DTSTAMP:20260425T180646
CREATED:20250218T134107Z
LAST-MODIFIED:20250605T145742Z
UID:28683-1758240000-1758499199@medisimaging.com
SUMMARY:NC & SC Chapters ACC 32nd Annual Joint Meeting
DESCRIPTION:
URL:https://medisimaging.com/event/nc-sc-chapters-acc-32nd-annual-joint-meeting/
LOCATION:Omni Grove Park Inn\, 290 Macon Ave\, Asheville\, 28804\, United States
ATTACH;FMTTYPE=image/png:https://medisimaging.com/wp-content/uploads/2025/02/ACC.png
END:VEVENT
BEGIN:VEVENT
DTSTART;VALUE=DATE:20250912
DTEND;VALUE=DATE:20250914
DTSTAMP:20260425T180646
CREATED:20250605T092021Z
LAST-MODIFIED:20250605T093430Z
UID:29456-1757635200-1757807999@medisimaging.com
SUMMARY:POPAI 2025
DESCRIPTION:
URL:https://medisimaging.com/event/popai-2025/
ATTACH;FMTTYPE=image/jpeg:https://medisimaging.com/wp-content/uploads/2025/06/POPAI-2025.jpg-2.jpg
END:VEVENT
BEGIN:VEVENT
DTSTART;VALUE=DATE:20250905
DTEND;VALUE=DATE:20250908
DTSTAMP:20260425T180646
CREATED:20250218T132847Z
LAST-MODIFIED:20250605T143850Z
UID:28669-1757030400-1757289599@medisimaging.com
SUMMARY:ASE2025
DESCRIPTION:
URL:https://medisimaging.com/event/ase-2025/
LOCATION:Music City Center\, 201 Rep. John Lewis Way S\, Nashville\, 37203\, United States
ATTACH;FMTTYPE=image/png:https://medisimaging.com/wp-content/uploads/2025/02/ASE-2025.png
END:VEVENT
BEGIN:VEVENT
DTSTART;VALUE=DATE:20250829
DTEND;VALUE=DATE:20250902
DTSTAMP:20260425T180646
CREATED:20250218T131042Z
LAST-MODIFIED:20250218T131042Z
UID:28658-1756425600-1756771199@medisimaging.com
SUMMARY:ESC Congress 2025
DESCRIPTION:
URL:https://medisimaging.com/event/esc-congress-2025/
LOCATION:IFEMA Madrid\, Av. de la Capital de España\, 5\, Barajas\, Madrid\, 28042\, Spain
ATTACH;FMTTYPE=image/jpeg:https://medisimaging.com/wp-content/uploads/2025/02/ESC-Madrid.jpg
END:VEVENT
BEGIN:VEVENT
DTSTART;VALUE=DATE:20250717
DTEND;VALUE=DATE:20250721
DTSTAMP:20260425T180646
CREATED:20250605T090339Z
LAST-MODIFIED:20250605T090339Z
UID:29452-1752710400-1753055999@medisimaging.com
SUMMARY:SCCT 2025
DESCRIPTION:
URL:https://medisimaging.com/event/scct-2025/
LOCATION:Palais des Congrès de Montréal\, 1001\, Place Jean-Paul-Riopelle Montreal QC H2Z 2A7\, Canada
ATTACH;FMTTYPE=image/png:https://medisimaging.com/wp-content/uploads/2025/06/SCCT.png
END:VEVENT
BEGIN:VEVENT
DTSTART;VALUE=DATE:20250717
DTEND;VALUE=DATE:20250720
DTSTAMP:20260425T180646
CREATED:20250218T123546Z
LAST-MODIFIED:20250218T123546Z
UID:28643-1752710400-1752969599@medisimaging.com
SUMMARY:CVIT2025
DESCRIPTION:
URL:https://medisimaging.com/event/cvit2025/
LOCATION:Osaka International Convention Center\, 5 Chome-3-51 Nakanoshima\, Kita Ward\, Osaka\, 530-0005\, Japan
ATTACH;FMTTYPE=image/png:https://medisimaging.com/wp-content/uploads/2025/02/CVIT-2025.png
END:VEVENT
BEGIN:VEVENT
DTSTART;VALUE=DATE:20250627
DTEND;VALUE=DATE:20250630
DTSTAMP:20260425T180646
CREATED:20250605T085804Z
LAST-MODIFIED:20250605T110209Z
UID:29447-1750982400-1751241599@medisimaging.com
SUMMARY:SCMR Mid-Year Meeting Munich 2025
DESCRIPTION:
URL:https://medisimaging.com/event/scmr-mid-year-meeting-munich-2025/
LOCATION:German Heart Center\, Lazarettstraße 36\, 80636 Munich\, Germany
ATTACH;FMTTYPE=image/webp:https://medisimaging.com/wp-content/uploads/2025/06/SCMR-2025.webp
END:VEVENT
BEGIN:VEVENT
DTSTART;VALUE=DATE:20250612
DTEND;VALUE=DATE:20250615
DTSTAMP:20260425T180646
CREATED:20250218T112216Z
LAST-MODIFIED:20250218T112216Z
UID:28630-1749686400-1749945599@medisimaging.com
SUMMARY:ASCI 2025
DESCRIPTION:
URL:https://medisimaging.com/event/asci-2025/
LOCATION:BEXCO │ Busan Exhibition and Convention Center\, 55 APEC-ro\, Haeundae-gu\, Busan\, 48058\, Korea\, Republic of
ATTACH;FMTTYPE=image/jpeg:https://medisimaging.com/wp-content/uploads/2025/02/Screenshot_18-2-2025_1268_view.officeapps.live_.com_.jpeg
END:VEVENT
BEGIN:VEVENT
DTSTART;VALUE=DATE:20250612
DTEND;VALUE=DATE:20250615
DTSTAMP:20260425T180646
CREATED:20250218T105428Z
LAST-MODIFIED:20250218T105428Z
UID:28623-1749686400-1749945599@medisimaging.com
SUMMARY:JFICV
DESCRIPTION:
URL:https://medisimaging.com/event/jficv/
LOCATION:Palais des Congrès d’Arles\, 22 Avenue de la Première Division France Libre\, Arles\, 13200 Arles\, France
ATTACH;FMTTYPE=image/jpeg:https://medisimaging.com/wp-content/uploads/2025/02/JFICV.jpg
END:VEVENT
BEGIN:VEVENT
DTSTART;VALUE=DATE:20250611
DTEND;VALUE=DATE:20250614
DTSTAMP:20260425T180646
CREATED:20250605T145006Z
LAST-MODIFIED:20250605T145006Z
UID:29490-1749600000-1749859199@medisimaging.com
SUMMARY:CITIC 2025
DESCRIPTION:
URL:https://medisimaging.com/event/citic-2025/
LOCATION:Expo Santa Fe México\, Expo Santa Fe México\, Av. Santa Fe 270\, Santa Fe\, Zedec Sta Fé\, Álvaro Obregón\, 01210 Ciudad de México\, CDMX\, México
ATTACH;FMTTYPE=image/png:https://medisimaging.com/wp-content/uploads/2025/06/CITIC-2-1.png
END:VEVENT
BEGIN:VEVENT
DTSTART;VALUE=DATE:20250602
DTEND;VALUE=DATE:20250605
DTSTAMP:20260425T180646
CREATED:20250603T150748Z
LAST-MODIFIED:20250603T150748Z
UID:29437-1748822400-1749081599@medisimaging.com
SUMMARY:BCS Manchester
DESCRIPTION:
URL:https://medisimaging.com/event/bcs-manchester/
LOCATION:Manchester Central\, Windmill St\, Manchester M2 3GX\, United Kingdom
ATTACH;FMTTYPE=image/png:https://medisimaging.com/wp-content/uploads/2025/06/BCS-Manchester.png
END:VEVENT
BEGIN:VEVENT
DTSTART;VALUE=DATE:20250530
DTEND;VALUE=DATE:20250601
DTSTAMP:20260425T180646
CREATED:20250218T103855Z
LAST-MODIFIED:20250218T103855Z
UID:28618-1748563200-1748735999@medisimaging.com
SUMMARY:OPCI New York 2025
DESCRIPTION:
URL:https://medisimaging.com/event/opci-new-york-2025/
ATTACH;FMTTYPE=image/png:https://medisimaging.com/wp-content/uploads/2025/02/OPCI-New-York.png
END:VEVENT
BEGIN:VEVENT
DTSTART;VALUE=DATE:20250520
DTEND;VALUE=DATE:20250524
DTSTAMP:20260425T180646
CREATED:20241129T125553Z
LAST-MODIFIED:20250218T095441Z
UID:28144-1747699200-1748044799@medisimaging.com
SUMMARY:EuroPCR 2025
DESCRIPTION:
URL:https://medisimaging.com/event/europcr-2025/
LOCATION:Palais des Congrès de Paris\, 2 Place de la Porte Maillot\, 75017 Paris\, France
ATTACH;FMTTYPE=image/webp:https://medisimaging.com/wp-content/uploads/2024/11/EuroPCR_image_responsive_4.webp
END:VEVENT
BEGIN:VEVENT
DTSTART;VALUE=DATE:20250501
DTEND;VALUE=DATE:20250504
DTSTAMP:20260425T180646
CREATED:20250218T101434Z
LAST-MODIFIED:20250311T103719Z
UID:28611-1746057600-1746316799@medisimaging.com
SUMMARY:SCAI Washington
DESCRIPTION:Booth: 218
URL:https://medisimaging.com/event/scai-washington/
LOCATION:Walter E. Washington Convention Center\, 801 Mt. Vernon Place\, NW Washington\, DC 20001\, United States
ATTACH;FMTTYPE=image/png:https://medisimaging.com/wp-content/uploads/2025/02/SCAI-2025.png
END:VEVENT
BEGIN:VEVENT
DTSTART;VALUE=DATE:20250423
DTEND;VALUE=DATE:20250427
DTSTAMP:20260425T180646
CREATED:20250218T100609Z
LAST-MODIFIED:20250311T092433Z
UID:28605-1745366400-1745711999@medisimaging.com
SUMMARY:DGK Mannheim
DESCRIPTION:Booth: Ebene 1 #216
URL:https://medisimaging.com/event/dgk-mannheim/
LOCATION:Congress Center Rosengarten Mannheim\, Rosengartenplatz 2\, Mannheim\, 68161\, Germany
ATTACH;FMTTYPE=image/webp:https://medisimaging.com/wp-content/uploads/2025/02/DGK-Mennheim.webp
END:VEVENT
BEGIN:VEVENT
DTSTART;VALUE=DATE:20250417
DTEND;VALUE=DATE:20250420
DTSTAMP:20260425T180646
CREATED:20250131T103007Z
LAST-MODIFIED:20250131T111913Z
UID:28529-1744848000-1745107199@medisimaging.com
SUMMARY:TCT Plus Middle East
DESCRIPTION:
URL:https://medisimaging.com/event/tct-plus-middle-east/
LOCATION:Crowne Plaza Riyadh\, Wadi Al Muaydin\, Street\, Unit 4\, Imam Saud Ibn Abdul Aziz Road\, Riyadh\, 12382\, Saudi Arabia
ATTACH;FMTTYPE=image/jpeg:https://medisimaging.com/wp-content/uploads/2025/01/tctplusME.jpg
END:VEVENT
BEGIN:VEVENT
DTSTART;VALUE=DATE:20250410
DTEND;VALUE=DATE:20250414
DTSTAMP:20260425T180646
CREATED:20250131T101547Z
LAST-MODIFIED:20250131T101547Z
UID:28524-1744243200-1744588799@medisimaging.com
SUMMARY:JRC 2025
DESCRIPTION:
URL:https://medisimaging.com/event/jrc-2025/
LOCATION:Pacifico Yokohama\, 1 Chome-1-1 Minatomirai\, Nishi Ward\, Yokohama\, 220-0012\, Japan
ATTACH;FMTTYPE=image/jpeg:https://medisimaging.com/wp-content/uploads/2025/01/JRC2025.jpg
END:VEVENT
BEGIN:VEVENT
DTSTART;VALUE=DATE:20250403
DTEND;VALUE=DATE:20250405
DTSTAMP:20260425T180646
CREATED:20250131T094524Z
LAST-MODIFIED:20250131T094524Z
UID:28515-1743638400-1743811199@medisimaging.com
SUMMARY:Physioday
DESCRIPTION:
URL:https://medisimaging.com/event/physioday/
LOCATION:Sheraton Nice\, Park Phoenix s\, 480 Promenade des Anglais\, Av. des Grenouillères\, Nice\, 06200\, France
ATTACH;FMTTYPE=image/jpeg:https://medisimaging.com/wp-content/uploads/2025/01/Physioday.jpg
END:VEVENT
BEGIN:VEVENT
DTSTART;VALUE=DATE:20250329
DTEND;VALUE=DATE:20250401
DTSTAMP:20260425T180646
CREATED:20250131T094139Z
LAST-MODIFIED:20250311T102911Z
UID:28511-1743206400-1743465599@medisimaging.com
SUMMARY:ACC.25
DESCRIPTION:Booth: 17011
URL:https://medisimaging.com/event/acc-25/
LOCATION:McCormick Place\, 2301 S. Martin Luther King Dr.\, Chicago\, IL\, 60616\, United States
ATTACH;FMTTYPE=image/jpeg:https://medisimaging.com/wp-content/uploads/2025/01/acc25.jpg
END:VEVENT
BEGIN:VEVENT
DTSTART;VALUE=DATE:20250321
DTEND;VALUE=DATE:20250324
DTSTAMP:20260425T180646
CREATED:20250131T092757Z
LAST-MODIFIED:20250131T093648Z
UID:28508-1742515200-1742774399@medisimaging.com
SUMMARY:India Live 2025
DESCRIPTION:
URL:https://medisimaging.com/event/india-live-2025/
LOCATION:Jio World Convention Centre\, G Block\, Bandra Kurla Complex\, Bandra East\, Mumbai\, 400098\, India
END:VEVENT
END:VCALENDAR